
BEGIN:VCALENDAR
VERSION:2.0
PRODID:-//CEILS Dev - ECPv6.15.20//NONSGML v1.0//EN
CALSCALE:GREGORIAN
METHOD:PUBLISH
X-WR-CALNAME:CEILS Dev
X-ORIGINAL-URL:https://wp-misc.lifesci.ucla.edu/ceils-dev
X-WR-CALDESC:Events for CEILS Dev
REFRESH-INTERVAL;VALUE=DURATION:PT1H
X-Robots-Tag:noindex
X-PUBLISHED-TTL:PT1H
BEGIN:VTIMEZONE
TZID:America/Los_Angeles
BEGIN:DAYLIGHT
TZOFFSETFROM:-0800
TZOFFSETTO:-0700
TZNAME:PDT
DTSTART:20240310T100000
END:DAYLIGHT
BEGIN:STANDARD
TZOFFSETFROM:-0700
TZOFFSETTO:-0800
TZNAME:PST
DTSTART:20241103T090000
END:STANDARD
BEGIN:DAYLIGHT
TZOFFSETFROM:-0800
TZOFFSETTO:-0700
TZNAME:PDT
DTSTART:20250309T100000
END:DAYLIGHT
BEGIN:STANDARD
TZOFFSETFROM:-0700
TZOFFSETTO:-0800
TZNAME:PST
DTSTART:20251102T090000
END:STANDARD
BEGIN:DAYLIGHT
TZOFFSETFROM:-0800
TZOFFSETTO:-0700
TZNAME:PDT
DTSTART:20260308T100000
END:DAYLIGHT
BEGIN:STANDARD
TZOFFSETFROM:-0700
TZOFFSETTO:-0800
TZNAME:PST
DTSTART:20261101T090000
END:STANDARD
END:VTIMEZONE
BEGIN:VEVENT
DTSTART;TZID=America/Los_Angeles:20251030T160000
DTEND;TZID=America/Los_Angeles:20251030T170000
DTSTAMP:20260421T155033
CREATED:20251020T222018Z
LAST-MODIFIED:20251020T222018Z
UID:9269-1761840000-1761843600@wp-misc.lifesci.ucla.edu
SUMMARY:UCLA Physics & Astronomy Colloquium - "AI & Mathematical Skills (AIMS) to support student success: from research to implementation in STEM courses at UCLA"\, by Yifan Lu\, Shanna Shaked\, K. Supriya
DESCRIPTION:How can we support students in reviewing or learning the necessary math to succeed in college STEM courses\, such as introductory physics? We will review some relatively simple promising interventions and our education research study supporting their effectiveness. Inequities in student access to trigonometry and calculus are often associated with racial and socioeconomic privilege\, and often influence introductory physics course performance. To mitigate these disparities in student preparedness\, we developed a two-pronged intervention consisting of (1) incentivized supplemental math assignments and (2) AI-generated learning support tools in the form of optional hints embedded in the physics homework assignments. For the supplemental math assignments\, the extra credit was scaled to make it worth more points for students with lower exam scores\, thereby creating even greater value for students who might benefit most from the assignments. AI-generated hints were integrated into the homework assignments\, thereby reducing or eliminating the cost to the student\, in terms of time\, energy\, and social barriers or fear of judgment. Our findings indicate that both these interventions are associated with increased exam scores; in particular\, the scaled extra credit reduced disparities in completion of supplemental math assignments. These interventions are therefore very promising for creating more equitable undergraduate quantitative courses.Thanks to funding from UCLA’s Teaching and Learning Center\, we will then discuss our vision for implementing these interventions in STEM undergraduate courses at UCLA more broadly. \nShaked + Supriya (UCLA Center for Education Innovation and Learning in the Sciences) and Lu (UCLA Physics & Astronomy Dept.) \nRefreshments at 3:30 p.m. on the PAB Patio. Undergraduates Welcome!
URL:https://wp-misc.lifesci.ucla.edu/ceils-dev/event/ucla-physics-astronomy-colloquium-ai-mathematical-skills-aims-to-support-student-success-from-research-to-implementation-in-stem-courses-at-ucla-by-yifan-lu-shanna-shaked-k-su/
LOCATION:430 Portola Plz\, Physics and Astronomy Building & Knudsen Hall\, Los Angeles\, CA 90095\, 430 Portola Plz\, Physics and Astronomy Building & Knudsen Hall\, Los Angeles\, CA\, 90095\, United States
END:VEVENT
END:VCALENDAR