
BEGIN:VCALENDAR
VERSION:2.0
PRODID:-//CEILS Dev - ECPv6.15.20//NONSGML v1.0//EN
CALSCALE:GREGORIAN
METHOD:PUBLISH
X-WR-CALNAME:CEILS Dev
X-ORIGINAL-URL:https://wp-misc.lifesci.ucla.edu/ceils-dev
X-WR-CALDESC:Events for CEILS Dev
REFRESH-INTERVAL;VALUE=DURATION:PT1H
X-Robots-Tag:noindex
X-PUBLISHED-TTL:PT1H
BEGIN:VTIMEZONE
TZID:America/Los_Angeles
BEGIN:DAYLIGHT
TZOFFSETFROM:-0800
TZOFFSETTO:-0700
TZNAME:PDT
DTSTART:20250309T100000
END:DAYLIGHT
BEGIN:STANDARD
TZOFFSETFROM:-0700
TZOFFSETTO:-0800
TZNAME:PST
DTSTART:20251102T090000
END:STANDARD
BEGIN:DAYLIGHT
TZOFFSETFROM:-0800
TZOFFSETTO:-0700
TZNAME:PDT
DTSTART:20260308T100000
END:DAYLIGHT
BEGIN:STANDARD
TZOFFSETFROM:-0700
TZOFFSETTO:-0800
TZNAME:PST
DTSTART:20261101T090000
END:STANDARD
BEGIN:DAYLIGHT
TZOFFSETFROM:-0800
TZOFFSETTO:-0700
TZNAME:PDT
DTSTART:20270314T100000
END:DAYLIGHT
BEGIN:STANDARD
TZOFFSETFROM:-0700
TZOFFSETTO:-0800
TZNAME:PST
DTSTART:20271107T090000
END:STANDARD
END:VTIMEZONE
BEGIN:VEVENT
DTSTART;TZID=America/Los_Angeles:20260309T120000
DTEND;TZID=America/Los_Angeles:20260309T140000
DTSTAMP:20260421T101541
CREATED:20260116T024511Z
LAST-MODIFIED:20260122T220403Z
UID:9392-1773057600-1773064800@wp-misc.lifesci.ucla.edu
SUMMARY:Mid Day Pause
DESCRIPTION:Step out of the rush and return to your day renewed. We invite you to take a quick pause in the middle of your day and join CEILS in taking time to reflect\, connect and unwind. This break will provide an opportunity to engage in mental rest and gentle connection with your colleagues. Coffee\, tea and snacks provided.
URL:https://wp-misc.lifesci.ucla.edu/ceils-dev/event/test-mid-day-pause/
LOCATION:Hershey Hall 230
END:VEVENT
END:VCALENDAR