
BEGIN:VCALENDAR
VERSION:2.0
PRODID:-//CEILS Dev - ECPv6.15.20//NONSGML v1.0//EN
CALSCALE:GREGORIAN
METHOD:PUBLISH
X-ORIGINAL-URL:https://wp-misc.lifesci.ucla.edu/ceils-dev
X-WR-CALDESC:Events for CEILS Dev
REFRESH-INTERVAL;VALUE=DURATION:PT1H
X-Robots-Tag:noindex
X-PUBLISHED-TTL:PT1H
BEGIN:VTIMEZONE
TZID:America/Los_Angeles
BEGIN:DAYLIGHT
TZOFFSETFROM:-0800
TZOFFSETTO:-0700
TZNAME:PDT
DTSTART:20250309T100000
END:DAYLIGHT
BEGIN:STANDARD
TZOFFSETFROM:-0700
TZOFFSETTO:-0800
TZNAME:PST
DTSTART:20251102T090000
END:STANDARD
BEGIN:DAYLIGHT
TZOFFSETFROM:-0800
TZOFFSETTO:-0700
TZNAME:PDT
DTSTART:20260308T100000
END:DAYLIGHT
BEGIN:STANDARD
TZOFFSETFROM:-0700
TZOFFSETTO:-0800
TZNAME:PST
DTSTART:20261101T090000
END:STANDARD
BEGIN:DAYLIGHT
TZOFFSETFROM:-0800
TZOFFSETTO:-0700
TZNAME:PDT
DTSTART:20270314T100000
END:DAYLIGHT
BEGIN:STANDARD
TZOFFSETFROM:-0700
TZOFFSETTO:-0800
TZNAME:PST
DTSTART:20271107T090000
END:STANDARD
END:VTIMEZONE
BEGIN:VEVENT
DTSTART;TZID=America/Los_Angeles:20260304T140000
DTEND;TZID=America/Los_Angeles:20260304T150000
DTSTAMP:20260421T142051
CREATED:20251203T170307Z
LAST-MODIFIED:20260203T222824Z
UID:9351-1772632800-1772636400@wp-misc.lifesci.ucla.edu
SUMMARY:CEILS Journal Club for STEM Education
DESCRIPTION:Paper we will discuss on Mar 4:\nGoodwin\, E. C.\, Shapiro\, C.\, Freise\, A. C.\, Toven-Lindsey\, B.\, & Moberg Parker\, J. Synthesizing Research Narratives to Reveal the Big Picture: a CREATE (S) Intervention Modified for Journal Club Improves Undergraduate Science Literacy. Journal of microbiology & biology education\, 24.2 (2023): e00055-23. \nAbout Journal Club:\nAre you interested in learning about the latest STEM education research but not sure where to start? Or feeling overwhelmed by the sheer quantity of literature out there and what it means for your teaching? Come to the CEILS journal club!  \nWe will pick key recent papers from the STEM education research literature and provide a one-page summary to facilitate discussion. Our goal is to make it easier for instructors to explore relevant STEM education research literature and reflect on its implications for their courses in community with other instructors.  \nAll UCLA instructors including faculty\, graduate students and postdocs are welcome to participate!  \nRSVP for Journal Club Winter 2026
URL:https://wp-misc.lifesci.ucla.edu/ceils-dev/event/ceils-journal-club-for-stem-education-5/
LOCATION:Terasaki Life Sciences 5100
CATEGORIES:Journal Club
END:VEVENT
END:VCALENDAR