
BEGIN:VCALENDAR
VERSION:2.0
PRODID:-//CEILS Dev - ECPv6.15.20//NONSGML v1.0//EN
CALSCALE:GREGORIAN
METHOD:PUBLISH
X-ORIGINAL-URL:https://wp-misc.lifesci.ucla.edu/ceils-dev
X-WR-CALDESC:Events for CEILS Dev
REFRESH-INTERVAL;VALUE=DURATION:PT1H
X-Robots-Tag:noindex
X-PUBLISHED-TTL:PT1H
BEGIN:VTIMEZONE
TZID:America/Los_Angeles
BEGIN:DAYLIGHT
TZOFFSETFROM:-0800
TZOFFSETTO:-0700
TZNAME:PDT
DTSTART:20210314T100000
END:DAYLIGHT
BEGIN:STANDARD
TZOFFSETFROM:-0700
TZOFFSETTO:-0800
TZNAME:PST
DTSTART:20211107T090000
END:STANDARD
BEGIN:DAYLIGHT
TZOFFSETFROM:-0800
TZOFFSETTO:-0700
TZNAME:PDT
DTSTART:20220313T100000
END:DAYLIGHT
BEGIN:STANDARD
TZOFFSETFROM:-0700
TZOFFSETTO:-0800
TZNAME:PST
DTSTART:20221106T090000
END:STANDARD
BEGIN:DAYLIGHT
TZOFFSETFROM:-0800
TZOFFSETTO:-0700
TZNAME:PDT
DTSTART:20230312T100000
END:DAYLIGHT
BEGIN:STANDARD
TZOFFSETFROM:-0700
TZOFFSETTO:-0800
TZNAME:PST
DTSTART:20231105T090000
END:STANDARD
END:VTIMEZONE
BEGIN:VEVENT
DTSTART;TZID=America/Los_Angeles:20220719T150000
DTEND;TZID=America/Los_Angeles:20220719T163000
DTSTAMP:20260421T142052
CREATED:20220606T221210Z
LAST-MODIFIED:20220606T221210Z
UID:1773-1658242800-1658248200@wp-misc.lifesci.ucla.edu
SUMMARY:CEILS Book Club: Teaching to Transgress (Meeting #4)
DESCRIPTION:Come read “Teaching to Transgress: Education as the Practice of Freedom” by bell hooks with us this summer! \n\n\nAbout this event\n\n\n\nWe invite you to register for all the dates you can attend. However\, you are welcome to register for just the first meeting now and register for the following ones later. \nRefreshments will be served in the Hershey Hall Front Courtyard after each book club meeting. Discussion from 3pm – 4pm; Refreshments at 4pm. \nWhile we plan to meet in-person\, a Zoom link will be sent out to all registered participants as well.  \nReading Schedule: \nJune 21: Intro\, Chapter 1 & 2 \nJune 28: Chapter 3 & 4 \nJuly 12: Chapter 5\, 6 & 7 \nJuly 19: Chapter 8 & 9 \nAugust 9: Chapter 10\, 11 & 12
URL:https://wp-misc.lifesci.ucla.edu/ceils-dev/event/ceils-book-club-teaching-to-transgress-meeting-4/
LOCATION:1100 Terasaki Life Sciences Building\, 1100 Terasaki Life Sciences Building\, UCLA\, Los Angeles\, CA\, 90095\, United States
CATEGORIES:CEILS Sponsored,Journal Club,On Campus Event,Online Event
END:VEVENT
BEGIN:VEVENT
DTSTART;TZID=America/Los_Angeles:20220712T150000
DTEND;TZID=America/Los_Angeles:20220712T163000
DTSTAMP:20260421T142052
CREATED:20220606T221042Z
LAST-MODIFIED:20220606T221042Z
UID:1771-1657638000-1657643400@wp-misc.lifesci.ucla.edu
SUMMARY:CEILS Book Club: Teaching to Transgress (Meeting #3)
DESCRIPTION:Come read “Teaching to Transgress: Education as the Practice of Freedom” by bell hooks with us this summer! \n\n\nAbout this event\n\n\n\nWe invite you to register for all the dates you can attend. However\, you are welcome to register for just the first meeting now and register for the following ones later. \nRefreshments will be served in the Hershey Hall Front Courtyard after each book club meeting. Discussion from 3pm – 4pm; Refreshments at 4pm. \nWhile we plan to meet in-person\, a Zoom link will be sent out to all registered participants as well.  \nReading Schedule: \nJune 21: Intro\, Chapter 1 & 2 \nJune 28: Chapter 3 & 4 \nJuly 12: Chapter 5\, 6 & 7 \nJuly 19: Chapter 8 & 9 \nAugust 9: Chapter 10\, 11 & 12
URL:https://wp-misc.lifesci.ucla.edu/ceils-dev/event/ceils-book-club-teaching-to-transgress-meeting-3/
LOCATION:1100 Terasaki Life Sciences Building\, 1100 Terasaki Life Sciences Building\, UCLA\, Los Angeles\, CA\, 90095\, United States
CATEGORIES:CEILS Sponsored,Journal Club,On Campus Event,Online Event
END:VEVENT
BEGIN:VEVENT
DTSTART;TZID=America/Los_Angeles:20220628T150000
DTEND;TZID=America/Los_Angeles:20220628T163000
DTSTAMP:20260421T142052
CREATED:20220606T220859Z
LAST-MODIFIED:20220606T220859Z
UID:1769-1656428400-1656433800@wp-misc.lifesci.ucla.edu
SUMMARY:CEILS Book Club: Teaching to Transgress (Meeting #2)
DESCRIPTION:Come read “Teaching to Transgress: Education as the Practice of Freedom” by bell hooks with us this summer! \n\n\nAbout this event\n\n\n\nWe invite you to register for all the dates you can attend. However\, you are welcome to register for just the first meeting now and register for the following ones later. \nRefreshments will be served in the Hershey Hall Front Courtyard after each book club meeting. Discussion from 3pm – 4pm; Refreshments at 4pm. \nWhile we plan to meet in-person\, a Zoom link will be sent out to all registered participants as well.  \nReading Schedule: \nJune 21: Intro\, Chapter 1 & 2 \nJune 28: Chapter 3 & 4 \nJuly 12: Chapter 5\, 6 & 7 \nJuly 19: Chapter 8 & 9 \nAugust 9: Chapter 10\, 11 & 12
URL:https://wp-misc.lifesci.ucla.edu/ceils-dev/event/ceils-book-club-teaching-to-transgress-meeting-2/
LOCATION:1100 Terasaki Life Sciences Building\, 1100 Terasaki Life Sciences Building\, UCLA\, Los Angeles\, CA\, 90095\, United States
CATEGORIES:CEILS Sponsored,Journal Club,On Campus Event,Online Event
END:VEVENT
BEGIN:VEVENT
DTSTART;TZID=America/Los_Angeles:20220621T150000
DTEND;TZID=America/Los_Angeles:20220621T163000
DTSTAMP:20260421T142052
CREATED:20220606T220403Z
LAST-MODIFIED:20220606T220647Z
UID:1766-1655823600-1655829000@wp-misc.lifesci.ucla.edu
SUMMARY:CEILS Book Club: Teaching to Transgress (Meeting #1)
DESCRIPTION:Come read “Teaching to Transgress: Education as the Practice of Freedom” by bell hooks with us this summer! \n\n\nAbout this event\n\n\n\nWe invite you to register for all the dates you can attend. However\, you are welcome to register for just the first meeting now and register for the following ones later. \nRefreshments will be served in the Hershey Hall Front Courtyard after each book club meeting. Discussion from 3pm – 4pm; Refreshments at 4pm. \nWhile we plan to meet in-person\, a Zoom link will be sent out to all registered participants as well.  \nReading Schedule: \nJune 21: Intro\, Chapter 1 & 2 \nJune 28: Chapter 3 & 4 \nJuly 12: Chapter 5\, 6 & 7 \nJuly 19: Chapter 8 & 9 \nAugust 9: Chapter 10\, 11 & 12
URL:https://wp-misc.lifesci.ucla.edu/ceils-dev/event/ceils-book-club-teaching-to-transgress/
LOCATION:1100 Terasaki Life Sciences Building\, 1100 Terasaki Life Sciences Building\, UCLA\, Los Angeles\, CA\, 90095\, United States
CATEGORIES:CEILS Sponsored,Journal Club,On Campus Event,Online Event
END:VEVENT
BEGIN:VEVENT
DTSTART;TZID=America/Los_Angeles:20220513T150000
DTEND;TZID=America/Los_Angeles:20220513T155000
DTSTAMP:20260421T142052
CREATED:20220512T205220Z
LAST-MODIFIED:20220517T180350Z
UID:1475-1652454000-1652457000@wp-misc.lifesci.ucla.edu
SUMMARY:CEILS Journal Club for STEM Education Research | Learning Community Meeting
DESCRIPTION:CEILS Journal Club for STEM Education Research | Learning Community Meetings \nFridays from 3:00 – 3:50 PM\, Apr 15 – June 3\, 2022\nLocation: Terasaki Life Sciences 1100\, Zoom option also available \nPlease email Supriya (ksupriya@wp-misc.lifesci.ucla.edu/ceils-dev) if you would like to attend via zoom or have any questions
URL:https://wp-misc.lifesci.ucla.edu/ceils-dev/event/ceils-journal-club-for-stem-education-research-learning-community-meeting/
LOCATION:1100 Terasaki Life Sciences Building\, 1100 Terasaki Life Sciences Building\, UCLA\, Los Angeles\, CA\, 90095\, United States
CATEGORIES:Journal Club,On Campus Event,UCLA
END:VEVENT
BEGIN:VEVENT
DTSTART;TZID=America/Los_Angeles:20220513T150000
DTEND;TZID=America/Los_Angeles:20220513T155000
DTSTAMP:20260421T142052
CREATED:20220512T205220Z
LAST-MODIFIED:20220517T180350Z
UID:1475-1652454000-1652457000@wp-misc.lifesci.ucla.edu
SUMMARY:CEILS Journal Club for STEM Education Research | Learning Community Meeting
DESCRIPTION:CEILS Journal Club for STEM Education Research | Learning Community Meetings \nFridays from 3:00 – 3:50 PM\, Apr 15 – June 3\, 2022\nLocation: Terasaki Life Sciences 1100\, Zoom option also available \nPlease email Supriya (ksupriya@wp-misc.lifesci.ucla.edu/ceils-dev) if you would like to attend via zoom or have any questions
URL:https://wp-misc.lifesci.ucla.edu/ceils-dev/event/ceils-journal-club-for-stem-education-research-learning-community-meeting/
LOCATION:1100 Terasaki Life Sciences Building\, 1100 Terasaki Life Sciences Building\, UCLA\, Los Angeles\, CA\, 90095\, United States
CATEGORIES:Journal Club,On Campus Event,UCLA
END:VEVENT
BEGIN:VEVENT
DTSTART;TZID=America/Los_Angeles:20220513T150000
DTEND;TZID=America/Los_Angeles:20220513T155000
DTSTAMP:20260421T142052
CREATED:20220512T205220Z
LAST-MODIFIED:20220517T180350Z
UID:1475-1652454000-1652457000@wp-misc.lifesci.ucla.edu
SUMMARY:CEILS Journal Club for STEM Education Research | Learning Community Meeting
DESCRIPTION:CEILS Journal Club for STEM Education Research | Learning Community Meetings \nFridays from 3:00 – 3:50 PM\, Apr 15 – June 3\, 2022\nLocation: Terasaki Life Sciences 1100\, Zoom option also available \nPlease email Supriya (ksupriya@wp-misc.lifesci.ucla.edu/ceils-dev) if you would like to attend via zoom or have any questions
URL:https://wp-misc.lifesci.ucla.edu/ceils-dev/event/ceils-journal-club-for-stem-education-research-learning-community-meeting/
LOCATION:1100 Terasaki Life Sciences Building\, 1100 Terasaki Life Sciences Building\, UCLA\, Los Angeles\, CA\, 90095\, United States
CATEGORIES:Journal Club,On Campus Event,UCLA
END:VEVENT
BEGIN:VEVENT
DTSTART;TZID=America/Los_Angeles:20220513T150000
DTEND;TZID=America/Los_Angeles:20220513T155000
DTSTAMP:20260421T142052
CREATED:20220512T205220Z
LAST-MODIFIED:20220517T180350Z
UID:1475-1652454000-1652457000@wp-misc.lifesci.ucla.edu
SUMMARY:CEILS Journal Club for STEM Education Research | Learning Community Meeting
DESCRIPTION:CEILS Journal Club for STEM Education Research | Learning Community Meetings \nFridays from 3:00 – 3:50 PM\, Apr 15 – June 3\, 2022\nLocation: Terasaki Life Sciences 1100\, Zoom option also available \nPlease email Supriya (ksupriya@wp-misc.lifesci.ucla.edu/ceils-dev) if you would like to attend via zoom or have any questions
URL:https://wp-misc.lifesci.ucla.edu/ceils-dev/event/ceils-journal-club-for-stem-education-research-learning-community-meeting/
LOCATION:1100 Terasaki Life Sciences Building\, 1100 Terasaki Life Sciences Building\, UCLA\, Los Angeles\, CA\, 90095\, United States
CATEGORIES:Journal Club,On Campus Event,UCLA
END:VEVENT
END:VCALENDAR