
BEGIN:VCALENDAR
VERSION:2.0
PRODID:-//CEILS Dev - ECPv6.15.20//NONSGML v1.0//EN
CALSCALE:GREGORIAN
METHOD:PUBLISH
X-ORIGINAL-URL:https://wp-misc.lifesci.ucla.edu/ceils-dev
X-WR-CALDESC:Events for CEILS Dev
REFRESH-INTERVAL;VALUE=DURATION:PT1H
X-Robots-Tag:noindex
X-PUBLISHED-TTL:PT1H
BEGIN:VTIMEZONE
TZID:America/Los_Angeles
BEGIN:DAYLIGHT
TZOFFSETFROM:-0800
TZOFFSETTO:-0700
TZNAME:PDT
DTSTART:20240310T100000
END:DAYLIGHT
BEGIN:STANDARD
TZOFFSETFROM:-0700
TZOFFSETTO:-0800
TZNAME:PST
DTSTART:20241103T090000
END:STANDARD
BEGIN:DAYLIGHT
TZOFFSETFROM:-0800
TZOFFSETTO:-0700
TZNAME:PDT
DTSTART:20250309T100000
END:DAYLIGHT
BEGIN:STANDARD
TZOFFSETFROM:-0700
TZOFFSETTO:-0800
TZNAME:PST
DTSTART:20251102T090000
END:STANDARD
BEGIN:DAYLIGHT
TZOFFSETFROM:-0800
TZOFFSETTO:-0700
TZNAME:PDT
DTSTART:20260308T100000
END:DAYLIGHT
BEGIN:STANDARD
TZOFFSETFROM:-0700
TZOFFSETTO:-0800
TZNAME:PST
DTSTART:20261101T090000
END:STANDARD
END:VTIMEZONE
BEGIN:VEVENT
DTSTART;TZID=America/Los_Angeles:20250117T123000
DTEND;TZID=America/Los_Angeles:20250117T140000
DTSTAMP:20260422T053842
CREATED:20240821T183819Z
LAST-MODIFIED:20240828T173329Z
UID:8653-1737117000-1737122400@wp-misc.lifesci.ucla.edu
SUMMARY:CEILS Teaching Table for STEM Classrooms: Project-Based Learning\, Community Engagement\, and Group Work - Campus Resources & Course Design Strategies
DESCRIPTION:Join a community of educators in exploring\, innovating\, and collaborating on teaching topics! RSVP to secure your spot today!  \nInstructors across the Life and Physical Sciences are invited to participate. Those who attend a minimum of 4 of the 6 sessions will receive a certificate of completion for their dossier. \nFridays 12:30 – 2 pm\, Terasaki Life Sciences Building 1100
URL:https://wp-misc.lifesci.ucla.edu/ceils-dev/event/ceils-teaching-table-for-stem-classrooms-project-based-learning-community-engagement-and-group-work-campus-resources-course-design-strategies/
LOCATION:1100 Terasaki Life Sciences Building\, 1100 Terasaki Life Sciences Building\, UCLA\, Los Angeles\, CA\, 90095\, United States
END:VEVENT
BEGIN:VEVENT
DTSTART;TZID=America/Los_Angeles:20250122T114000
DTEND;TZID=America/Los_Angeles:20250122T120000
DTSTAMP:20260422T053842
CREATED:20250117T174814Z
LAST-MODIFIED:20250117T174814Z
UID:8842-1737546000-1737547200@wp-misc.lifesci.ucla.edu
SUMMARY:CEILS Wellness Walks
DESCRIPTION:As part of our Pedagogical Wellness Initiative\, we are launching 20 min walks in the Winter Quarter\, every Wednesday from 11:40 – 12:00 pm. You can walk the full 20\, more\, or less. This time is for you. We will meet in the Hershey Front Courtyard. You can use this time to connect with CEILS folks about teaching\, hold walking meetings with colleagues\, or put on your headphones and drift away. We’ll send you a calendar invite\, and we hope you can join!
URL:https://wp-misc.lifesci.ucla.edu/ceils-dev/event/ceils-wellness-walks/
LOCATION:Hershey Hall Front Courtyard\, 612 Charles E Young Dr E\, Los Angeles\, CA\, 90095\, United States
END:VEVENT
BEGIN:VEVENT
DTSTART;TZID=America/Los_Angeles:20250129T114000
DTEND;TZID=America/Los_Angeles:20250129T120000
DTSTAMP:20260422T053842
CREATED:20250117T174909Z
LAST-MODIFIED:20250122T215118Z
UID:8844-1738150800-1738152000@wp-misc.lifesci.ucla.edu
SUMMARY:CEILS Wellness Walks
DESCRIPTION:Join us for energizing 20-minute walks every Wednesday from 11:40 – 12:00 pm. Whether you stroll the full time\, a bit less\, or more\, this time is for you. You can use this time to connect with CEILS folks about teaching\, hold walking meetings with colleagues\, or put on your headphones and drift away. We’ll send a calendar invite to the emails we already have in our listserv\, but please forward to friends who would love to join! Bring a buddy and come walk with us! \n  \nMeet in the Hershey Hall Front Courtyard at 11:35 am
URL:https://wp-misc.lifesci.ucla.edu/ceils-dev/event/ceils-wellness-walks-2/
LOCATION:Hershey Hall Front Courtyard\, 612 Charles E Young Dr E\, Los Angeles\, CA\, 90095\, United States
END:VEVENT
END:VCALENDAR