
BEGIN:VCALENDAR
VERSION:2.0
PRODID:-//CEILS Dev - ECPv6.15.20//NONSGML v1.0//EN
CALSCALE:GREGORIAN
METHOD:PUBLISH
X-WR-CALNAME:CEILS Dev
X-ORIGINAL-URL:https://wp-misc.lifesci.ucla.edu/ceils-dev
X-WR-CALDESC:Events for CEILS Dev
REFRESH-INTERVAL;VALUE=DURATION:PT1H
X-Robots-Tag:noindex
X-PUBLISHED-TTL:PT1H
BEGIN:VTIMEZONE
TZID:America/Los_Angeles
BEGIN:DAYLIGHT
TZOFFSETFROM:-0800
TZOFFSETTO:-0700
TZNAME:PDT
DTSTART:20240310T100000
END:DAYLIGHT
BEGIN:STANDARD
TZOFFSETFROM:-0700
TZOFFSETTO:-0800
TZNAME:PST
DTSTART:20241103T090000
END:STANDARD
BEGIN:DAYLIGHT
TZOFFSETFROM:-0800
TZOFFSETTO:-0700
TZNAME:PDT
DTSTART:20250309T100000
END:DAYLIGHT
BEGIN:STANDARD
TZOFFSETFROM:-0700
TZOFFSETTO:-0800
TZNAME:PST
DTSTART:20251102T090000
END:STANDARD
BEGIN:DAYLIGHT
TZOFFSETFROM:-0800
TZOFFSETTO:-0700
TZNAME:PDT
DTSTART:20260308T100000
END:DAYLIGHT
BEGIN:STANDARD
TZOFFSETFROM:-0700
TZOFFSETTO:-0800
TZNAME:PST
DTSTART:20261101T090000
END:STANDARD
END:VTIMEZONE
BEGIN:VEVENT
DTSTART;TZID=America/Los_Angeles:20250409T114000
DTEND;TZID=America/Los_Angeles:20250409T120000
DTSTAMP:20260422T012624
CREATED:20250407T175120Z
LAST-MODIFIED:20250407T175645Z
UID:9022-1744198800-1744200000@wp-misc.lifesci.ucla.edu
SUMMARY:CEILS Wellness Walks
DESCRIPTION:Join us for energizing 20-minute walks every Wednesday from 11:40 – 12:00 pm. Whether you stroll the full time\, a bit less\, or more\, this time is for you. You can use this time to connect with CEILS folks about teaching\, hold walking meetings with colleagues\, or put on your headphones and drift away. We’ll send a calendar invite to the emails we already have in our listserv\, but please forward to friends who would love to join! Bring a buddy and come walk with us! \nMeet in the Hershey Hall Front Courtyard at 11:35 AM \n  \n 
URL:https://wp-misc.lifesci.ucla.edu/ceils-dev/event/ceils-wellness-walks-10/
LOCATION:Hershey Hall Front Courtyard\, 612 Charles E Young Dr E\, Los Angeles\, CA\, 90095\, United States
END:VEVENT
BEGIN:VEVENT
DTSTART;TZID=America/Los_Angeles:20250416T114000
DTEND;TZID=America/Los_Angeles:20250416T120000
DTSTAMP:20260422T012624
CREATED:20250407T175241Z
LAST-MODIFIED:20250407T175609Z
UID:9024-1744803600-1744804800@wp-misc.lifesci.ucla.edu
SUMMARY:CEILS Wellness Walks
DESCRIPTION:Join us for energizing 20-minute walks every Wednesday from 11:40 – 12:00 pm. Whether you stroll the full time\, a bit less\, or more\, this time is for you. You can use this time to connect with CEILS folks about teaching\, hold walking meetings with colleagues\, or put on your headphones and drift away. We’ll send a calendar invite to the emails we already have in our listserv\, but please forward to friends who would love to join! Bring a buddy and come walk with us! \nMeet in the Hershey Hall Front Courtyard at 11:35 AM
URL:https://wp-misc.lifesci.ucla.edu/ceils-dev/event/ceils-wellness-walks-11/
END:VEVENT
BEGIN:VEVENT
DTSTART;TZID=America/Los_Angeles:20250418T120000
DTEND;TZID=America/Los_Angeles:20250418T133000
DTSTAMP:20260422T012624
CREATED:20250331T165914Z
LAST-MODIFIED:20250331T165946Z
UID:9009-1744977600-1744983000@wp-misc.lifesci.ucla.edu
SUMMARY:Teaching Tables: How to Meet the Challenge of Teaching Today's Students
DESCRIPTION:Teaching is different in this day and age\, isn’t it? Social media has changed the landscape of engagement and affected everyone’s attention spans. Assignments and material that were effective in the past are now falling short of their goals. This session will help you figure out who your students are and how to use the patterns you have observed in your teaching to improve student engagement in your course. We want to hear about how you create communication with students so we can collaboratively create a resource to share out with the larger instructional community! \n  \nCome join us on April 18th at 12pm in TSLB 1100 for the Teaching Tables session on getting to know your students in this day and age! \n  \nWe look forward to hearing your thoughts! \n  \nClick here to RSVP!
URL:https://wp-misc.lifesci.ucla.edu/ceils-dev/event/teaching-tables-how-to-meet-the-challenge-of-teaching-todays-students/
LOCATION:1100 Terasaki Life Sciences Building\, 1100 Terasaki Life Sciences Building\, UCLA\, Los Angeles\, CA\, 90095\, United States
END:VEVENT
BEGIN:VEVENT
DTSTART;TZID=America/Los_Angeles:20250423T114000
DTEND;TZID=America/Los_Angeles:20250423T120000
DTSTAMP:20260422T012624
CREATED:20250407T175327Z
LAST-MODIFIED:20250407T175540Z
UID:9026-1745408400-1745409600@wp-misc.lifesci.ucla.edu
SUMMARY:CEILS Wellness Walks
DESCRIPTION:Join us for energizing 20-minute walks every Wednesday from 11:40 – 12:00 pm. Whether you stroll the full time\, a bit less\, or more\, this time is for you. You can use this time to connect with CEILS folks about teaching\, hold walking meetings with colleagues\, or put on your headphones and drift away. We’ll send a calendar invite to the emails we already have in our listserv\, but please forward to friends who would love to join! Bring a buddy and come walk with us! \nMeet in the Hershey Hall Front Courtyard at 11:35 AM
URL:https://wp-misc.lifesci.ucla.edu/ceils-dev/event/ceils-wellness-walks-12/
LOCATION:Hershey Hall Front Courtyard\, 612 Charles E Young Dr E\, Los Angeles\, CA\, 90095\, United States
END:VEVENT
BEGIN:VEVENT
DTSTART;TZID=America/Los_Angeles:20250429T120000
DTEND;TZID=America/Los_Angeles:20250429T131500
DTSTAMP:20260422T012624
CREATED:20250409T211755Z
LAST-MODIFIED:20250409T211755Z
UID:9045-1745928000-1745932500@wp-misc.lifesci.ucla.edu
SUMMARY:Mentor & Mentee Conversations: Fostering Research Independence
DESCRIPTION:Join the conversation on research independence! Discover its core elements\, benefits\, and challenges\, and see how these evolve throughout the mentoring relationship. Explore strategies for mentors and mentee pairs to share and plan their path to research independence! \n  \nRSVP Here!
URL:https://wp-misc.lifesci.ucla.edu/ceils-dev/event/mentor-mentee-conversations-fostering-research-independence/
LOCATION:Hershey Hall 158
END:VEVENT
BEGIN:VEVENT
DTSTART;TZID=America/Los_Angeles:20250430T114000
DTEND;TZID=America/Los_Angeles:20250430T120000
DTSTAMP:20260422T012624
CREATED:20250407T175507Z
LAST-MODIFIED:20250407T175507Z
UID:9028-1746013200-1746014400@wp-misc.lifesci.ucla.edu
SUMMARY:CEILS Wellness Walks
DESCRIPTION:Join us for energizing 20-minute walks every Wednesday from 11:40 – 12:00 pm. Whether you stroll the full time\, a bit less\, or more\, this time is for you. You can use this time to connect with CEILS folks about teaching\, hold walking meetings with colleagues\, or put on your headphones and drift away. We’ll send a calendar invite to the emails we already have in our listserv\, but please forward to friends who would love to join! Bring a buddy and come walk with us! \nMeet in the Hershey Hall Front Courtyard at 11:35 AM
URL:https://wp-misc.lifesci.ucla.edu/ceils-dev/event/ceils-wellness-walks-13/
LOCATION:Hershey Hall Front Courtyard\, 612 Charles E Young Dr E\, Los Angeles\, CA\, 90095\, United States
END:VEVENT
END:VCALENDAR