
BEGIN:VCALENDAR
VERSION:2.0
PRODID:-//CEILS Dev - ECPv6.15.20//NONSGML v1.0//EN
CALSCALE:GREGORIAN
METHOD:PUBLISH
X-ORIGINAL-URL:https://wp-misc.lifesci.ucla.edu/ceils-dev
X-WR-CALDESC:Events for CEILS Dev
REFRESH-INTERVAL;VALUE=DURATION:PT1H
X-Robots-Tag:noindex
X-PUBLISHED-TTL:PT1H
BEGIN:VTIMEZONE
TZID:America/Los_Angeles
BEGIN:DAYLIGHT
TZOFFSETFROM:-0800
TZOFFSETTO:-0700
TZNAME:PDT
DTSTART:20240310T100000
END:DAYLIGHT
BEGIN:STANDARD
TZOFFSETFROM:-0700
TZOFFSETTO:-0800
TZNAME:PST
DTSTART:20241103T090000
END:STANDARD
BEGIN:DAYLIGHT
TZOFFSETFROM:-0800
TZOFFSETTO:-0700
TZNAME:PDT
DTSTART:20250309T100000
END:DAYLIGHT
BEGIN:STANDARD
TZOFFSETFROM:-0700
TZOFFSETTO:-0800
TZNAME:PST
DTSTART:20251102T090000
END:STANDARD
BEGIN:DAYLIGHT
TZOFFSETFROM:-0800
TZOFFSETTO:-0700
TZNAME:PDT
DTSTART:20260308T100000
END:DAYLIGHT
BEGIN:STANDARD
TZOFFSETFROM:-0700
TZOFFSETTO:-0800
TZNAME:PST
DTSTART:20261101T090000
END:STANDARD
END:VTIMEZONE
BEGIN:VEVENT
DTSTART;TZID=America/Los_Angeles:20250502T120000
DTEND;TZID=America/Los_Angeles:20250502T133000
DTSTAMP:20260421T223315
CREATED:20250331T170308Z
LAST-MODIFIED:20250331T170346Z
UID:9012-1746187200-1746192600@wp-misc.lifesci.ucla.edu
SUMMARY:Teaching Tables: How to Let Go of the Frustrating Parts of Teaching
DESCRIPTION:It can be disheartening when your lesson plan does not go the way you expected. Students may have a different understanding of what is expected of them\, leaving you feeling at a loss. This session will help you gain confidence in identifying where any misunderstandings are and how to address them while bringing joy to your work. Tell us your stories of motivating student behavior\, tell us your strategies for staying motivated throughout the term\, and get a keepsake to remind you of them! \n  \nCome join us on May 2nd at 12pm in TSLB 1100 for the Teaching Tables session on how to let go of the frustrating parts of teaching!  \n  \nWe look forward to hearing your thoughts! \n  \nClick here to RSVP!
URL:https://wp-misc.lifesci.ucla.edu/ceils-dev/event/may-2nd-how-to-let-go-of-the-frustrating-parts-of-teaching/
LOCATION:1100 Terasaki Life Sciences Building\, 1100 Terasaki Life Sciences Building\, UCLA\, Los Angeles\, CA\, 90095\, United States
END:VEVENT
BEGIN:VEVENT
DTSTART;TZID=America/Los_Angeles:20250507T114000
DTEND;TZID=America/Los_Angeles:20250507T120000
DTSTAMP:20260421T223315
CREATED:20250407T175949Z
LAST-MODIFIED:20250407T175949Z
UID:9033-1746618000-1746619200@wp-misc.lifesci.ucla.edu
SUMMARY:CEILS Wellness Walks
DESCRIPTION:Join us for energizing 20-minute walks every Wednesday from 11:40 – 12:00 pm. Whether you stroll the full time\, a bit less\, or more\, this time is for you. You can use this time to connect with CEILS folks about teaching\, hold walking meetings with colleagues\, or put on your headphones and drift away. We’ll send a calendar invite to the emails we already have in our listserv\, but please forward to friends who would love to join! Bring a buddy and come walk with us! \nMeet in the Hershey Hall Front Courtyard at 11:35 AM
URL:https://wp-misc.lifesci.ucla.edu/ceils-dev/event/ceils-wellness-walks-14/
LOCATION:Hershey Hall Front Courtyard\, 612 Charles E Young Dr E\, Los Angeles\, CA\, 90095\, United States
END:VEVENT
BEGIN:VEVENT
DTSTART;TZID=America/Los_Angeles:20250508T120000
DTEND;TZID=America/Los_Angeles:20250508T131500
DTSTAMP:20260421T223315
CREATED:20250409T212007Z
LAST-MODIFIED:20250409T212007Z
UID:9047-1746705600-1746710100@wp-misc.lifesci.ucla.edu
SUMMARY:Mentor & Mentee Conversations: Fostering Research Productivity
DESCRIPTION:Dive into essential topics that empower mentors and mentees to enhance communication and support in time management\, prioritization\, organization\, and work-life integration. Equip your laboratory team with skills that support research productivity in manageable ways. \n  \nRSVP Here!
URL:https://wp-misc.lifesci.ucla.edu/ceils-dev/event/mentor-mentee-conversations-fostering-research-productivity/
LOCATION:Hershey Hall 158
END:VEVENT
BEGIN:VEVENT
DTSTART;TZID=America/Los_Angeles:20250514T114000
DTEND;TZID=America/Los_Angeles:20250514T120000
DTSTAMP:20260421T223315
CREATED:20250407T180316Z
LAST-MODIFIED:20250407T180316Z
UID:9035-1747222800-1747224000@wp-misc.lifesci.ucla.edu
SUMMARY:CEILS Wellness Walks
DESCRIPTION:Join us for energizing 20-minute walks every Wednesday from 11:40 – 12:00 pm. Whether you stroll the full time\, a bit less\, or more\, this time is for you. You can use this time to connect with CEILS folks about teaching\, hold walking meetings with colleagues\, or put on your headphones and drift away. We’ll send a calendar invite to the emails we already have in our listserv\, but please forward to friends who would love to join! Bring a buddy and come walk with us! \nMeet in the Hershey Hall Front Courtyard at 11:35 AM
URL:https://wp-misc.lifesci.ucla.edu/ceils-dev/event/ceils-wellness-walks-15/
LOCATION:Hershey Hall Front Courtyard\, 612 Charles E Young Dr E\, Los Angeles\, CA\, 90095\, United States
END:VEVENT
BEGIN:VEVENT
DTSTART;TZID=America/Los_Angeles:20250516T120000
DTEND;TZID=America/Los_Angeles:20250516T133000
DTSTAMP:20260421T223315
CREATED:20250331T170654Z
LAST-MODIFIED:20250331T170728Z
UID:9015-1747396800-1747402200@wp-misc.lifesci.ucla.edu
SUMMARY:Teaching Tables: How to Create Space for Everyone in Your Class
DESCRIPTION:Did you know? By April 2026\, UCLA will need to be in compliance with the new accessibility (WCAG 2.1) standards which includes making text readable and understandable\, providing alternatives for non-text content\, and ensuring all functionalities are accessible via keyboard. In this session\, we will discuss discipline-specific strategies to prioritize accessibility and also incorporate anti-ableism in your teaching. We want to hear what you do and your thoughts on how to make educational spaces open to everyone! \n  \nCome join us on May 16th at 12pm in TSLB 1100 for the Teaching Tables session on how to create space for everyone in your class! \n  \nWe look forward to hearing your thoughts! \n  \nClick here to RSVP! \n 
URL:https://wp-misc.lifesci.ucla.edu/ceils-dev/event/teaching-tables-how-to-create-space-for-everyone-in-your-class/
LOCATION:1100 Terasaki Life Sciences Building\, 1100 Terasaki Life Sciences Building\, UCLA\, Los Angeles\, CA\, 90095\, United States
END:VEVENT
BEGIN:VEVENT
DTSTART;TZID=America/Los_Angeles:20250521T114000
DTEND;TZID=America/Los_Angeles:20250521T120000
DTSTAMP:20260421T223315
CREATED:20250407T180443Z
LAST-MODIFIED:20250407T180443Z
UID:9037-1747827600-1747828800@wp-misc.lifesci.ucla.edu
SUMMARY:CEILS Wellness Walks
DESCRIPTION:Join us for energizing 20-minute walks every Wednesday from 11:40 – 12:00 pm. Whether you stroll the full time\, a bit less\, or more\, this time is for you. You can use this time to connect with CEILS folks about teaching\, hold walking meetings with colleagues\, or put on your headphones and drift away. We’ll send a calendar invite to the emails we already have in our listserv\, but please forward to friends who would love to join! Bring a buddy and come walk with us! \nMeet in the Hershey Hall Front Courtyard at 11:35 AM
URL:https://wp-misc.lifesci.ucla.edu/ceils-dev/event/ceils-wellness-walks-16/
LOCATION:Hershey Hall Front Courtyard\, 612 Charles E Young Dr E\, Los Angeles\, CA\, 90095\, United States
END:VEVENT
BEGIN:VEVENT
DTSTART;TZID=America/Los_Angeles:20250528T114000
DTEND;TZID=America/Los_Angeles:20250528T120000
DTSTAMP:20260421T223315
CREATED:20250407T180643Z
LAST-MODIFIED:20250407T180643Z
UID:9039-1748432400-1748433600@wp-misc.lifesci.ucla.edu
SUMMARY:CEILS Wellness Walks
DESCRIPTION:Join us for energizing 20-minute walks every Wednesday from 11:40 – 12:00 pm. Whether you stroll the full time\, a bit less\, or more\, this time is for you. You can use this time to connect with CEILS folks about teaching\, hold walking meetings with colleagues\, or put on your headphones and drift away. We’ll send a calendar invite to the emails we already have in our listserv\, but please forward to friends who would love to join! Bring a buddy and come walk with us! \nMeet in the Hershey Hall Front Courtyard at 11:35 AM
URL:https://wp-misc.lifesci.ucla.edu/ceils-dev/event/ceils-wellness-walks-17/
LOCATION:Hershey Hall Front Courtyard\, 612 Charles E Young Dr E\, Los Angeles\, CA\, 90095\, United States
END:VEVENT
BEGIN:VEVENT
DTSTART;TZID=America/Los_Angeles:20250529T150000
DTEND;TZID=America/Los_Angeles:20250529T170000
DTSTAMP:20260421T223315
CREATED:20250507T222929Z
LAST-MODIFIED:20250507T222929Z
UID:9060-1748530800-1748538000@wp-misc.lifesci.ucla.edu
SUMMARY:CEILS Teaching Celebration
DESCRIPTION:We’re excited to invite all educators to a fun-filled celebration to honor your dedication and passion for teaching and engagement with CEILS! We are honored that you would share your time with us so please come indulge in an icecream sundae bar with toppings\, connect with colleagues\, and celebrate the wonderful impact you make every day. Your commitment to teaching inspires us all—let’s make this a memorable event! *vegan options available upon request. Please RSVP to secure your spot today! \n  \nRSVP Here!
URL:https://wp-misc.lifesci.ucla.edu/ceils-dev/event/ceils-teaching-celebration/
LOCATION:Hershey Hall Inner Courtyard\, 801 Hilgard Ave\, Los Angeles\, CA\, 90095\, United States
END:VEVENT
END:VCALENDAR